{
 "currentVersion": 10.71,
 "serviceDescription": " Piano delle Regole del PGT<\/SPAN>: Tavola PDR01e - Vincoli amministrativi e di salvaguardia della mobilità in scala 1:5000<\/SPAN><\/P><\/DIV><\/DIV><\/DIV>",
 "mapName": "PDR01e - 5k",
 "description": "",
 "copyrightText": "Comune di Bergamo",
 "supportsDynamicLayers": true,
 "layers": [
  {
   "id": 0,
   "name": "_#Area di interesse - confine comunale",
   "parentLayerId": -1,
   "defaultVisibility": true,
   "subLayerIds": null,
   "minScale": 0,
   "maxScale": 20000,
   "type": "Feature Layer",
   "geometryType": "esriGeometryPolygon"
  },
  {
   "id": 1,
   "name": "#Vincolo amministrativo mobilità",
   "parentLayerId": -1,
   "defaultVisibility": true,
   "subLayerIds": null,
   "minScale": 10000,
   "maxScale": 0,
   "type": "Feature Layer",
   "geometryType": "esriGeometryPolyline"
  },
  {
   "id": 2,
   "name": "#Vincolo amministrativo mobilità",
   "parentLayerId": -1,
   "defaultVisibility": true,
   "subLayerIds": null,
   "minScale": 10000,
   "maxScale": 0,
   "type": "Feature Layer",
   "geometryType": "esriGeometryPolyline"
  },
  {
   "id": 3,
   "name": "#Vincolo amministrativo mobilità",
   "parentLayerId": -1,
   "defaultVisibility": true,
   "subLayerIds": null,
   "minScale": 10000,
   "maxScale": 0,
   "type": "Feature Layer",
   "geometryType": "esriGeometryPolygon"
  },
  {
   "id": 4,
   "name": "#Vincolo amministrativo mobilità",
   "parentLayerId": -1,
   "defaultVisibility": true,
   "subLayerIds": null,
   "minScale": 10000,
   "maxScale": 0,
   "type": "Feature Layer",
   "geometryType": "esriGeometryPolygon"
  },
  {
   "id": 5,
   "name": "#Vincolo amministrativo mobilità",
   "parentLayerId": -1,
   "defaultVisibility": true,
   "subLayerIds": null,
   "minScale": 10000,
   "maxScale": 0,
   "type": "Feature Layer",
   "geometryType": "esriGeometryPolygon"
  },
  {
   "id": 6,
   "name": "#Vincolo amministrativo mobilità",
   "parentLayerId": -1,
   "defaultVisibility": true,
   "subLayerIds": null,
   "minScale": 10000,
   "maxScale": 0,
   "type": "Feature Layer",
   "geometryType": "esriGeometryPolygon"
  },
  {
   "id": 7,
   "name": "_#PDR01e.tif",
   "parentLayerId": -1,
   "defaultVisibility": true,
   "subLayerIds": null,
   "minScale": 10000,
   "maxScale": 0,
   "type": "Raster Layer"
  }
 ],
 "tables": [],
 "spatialReference": {
  "wkid": 32632,
  "latestWkid": 32632
 },
 "singleFusedMapCache": true,
 "tileInfo": {
  "rows": 256,
  "cols": 256,
  "dpi": 96,
  "format": "PNG",
  "compressionQuality": 0,
  "origin": {
   "x": -5120900,
   "y": 9998100
  },
  "spatialReference": {
   "wkid": 32632,
   "latestWkid": 32632
  },
  "lods": [
   {
    "level": 0,
    "resolution": 132.2919312505292,
    "scale": 500000
   },
   {
    "level": 1,
    "resolution": 39.687579375158755,
    "scale": 150000
   },
   {
    "level": 2,
    "resolution": 15.875031750063501,
    "scale": 60000
   },
   {
    "level": 3,
    "resolution": 7.9375158750317505,
    "scale": 30000
   },
   {
    "level": 4,
    "resolution": 2.6458386250105836,
    "scale": 10000
   },
   {
    "level": 5,
    "resolution": 1.3229193125052918,
    "scale": 5000
   },
   {
    "level": 6,
    "resolution": 0.5291677250021167,
    "scale": 2000
   },
   {
    "level": 7,
    "resolution": 0.26458386250105836,
    "scale": 1000
   },
   {
    "level": 8,
    "resolution": 0.13229193125052918,
    "scale": 500
   }
  ]
 },
 "initialExtent": {
  "xmin": 545225.4216077277,
  "ymin": 5058892.55269682,
  "xmax": 558539.621292273,
  "ymax": 5064862.503505003,
  "spatialReference": {
   "wkid": 32632,
   "latestWkid": 32632
  }
 },
 "fullExtent": {
  "xmin": 547972.668045871,
  "ymin": 5054979.44843727,
  "xmax": 555972.668045871,
  "ymax": 5064979.765947985,
  "spatialReference": {
   "wkid": 32632,
   "latestWkid": 32632
  }
 },
 "minScale": 500000,
 "maxScale": 500,
 "minLOD": 0,
 "maxLOD": 8,
 "units": "esriMeters",
 "supportedImageFormatTypes": "PNG32,PNG24,PNG,JPG,DIB,TIFF,EMF,PS,PDF,GIF,SVG,SVGZ,BMP",
 "documentInfo": {
  "Title": "",
  "Author": "",
  "Comments": "",
  "Subject": "",
  "Category": "",
  "AntialiasingMode": "None",
  "TextAntialiasingMode": "Force",
  "Keywords": "Comune Bergamo,Piano di Governo del Territorio,Urbanistica e Pianificazione,Vincolistica"
 },
 "capabilities": "Map,Query,Data",
 "supportedQueryFormats": "JSON, geoJSON",
 "exportTilesAllowed": false,
 "supportsDatumTransformation": true,
 "maxRecordCount": 1000,
 "maxImageHeight": 4096,
 "maxImageWidth": 4096,
 "supportedExtensions": ""
}
